Workbook

Sheet 申込書
B2: 第44回旭川地区秋季空手道選手権大会
B3: 申 込 書
B5: 登録団体名 | K5: プログラム用 （５文字以内） | Q5: 色のついてない部分のみ入力してください
B6: 団体責任者名
B7: 連絡責任者名 | G7: 電 話 | L7: 携 帯
B8: 文書送付先住所
B9: メールアドレス
C12: 男子形 | D12: ① | E12: ='参加者名簿（男子）'!N16 -> 0 | F12: 名 | I12: 男子 | J12: １種目 | L12: ='参加者名簿（男子）'!N18 -> 0 | M12: 名 | AF12: 全国
C13: 女子形 | D13: ② | E13: ='参加者名簿（女子）'!N15 -> 0 | F13: 名 | J13: ２種目 | L13: ='参加者名簿（男子）'!N19 -> 0 | M13: 名 | AF13: 地区
C14: 男子組手 | D14: ③ | E14: ='参加者名簿（男子）'!Q16 -> 0 | F14: 名 | I14: 女子 | J14: １種目 | L14: ='参加者名簿（女子）'!N17 -> 0 | M14: 名 | AF14: 都道府県
C15: 女子組手 | D15: ④ | E15: ='参加者名簿（女子）'!Q15 -> 0 | F15: 名 | J15: ２種目 | L15: ='参加者名簿（女子）'!N18 -> 0 | M15: 名 | AF15: 市町村
C16: 延べ合計 | E16: =SUM(E12:E15) -> 0 | F16: 名 | I16: 実数合計 | L16: =SUM(L12:L15) -> 0 | M16: 名 | AF16: 無し
B18: 参加費用
C19: １種目 | E19: =SUM(L12,L14) -> 0 | F19: 名 | G19: ｘ | H19: 2000 | J19: ＝ | K19: =E19*2000 -> 0 | M19: 円
C20: ２種目 | E20: =SUM(L13,L15) -> 0 | F20: 名 | G20: ｘ | H20: 3000 | J20: ＝ | K20: =E20*3000 -> 0 | M20: 円
C21: 団体負担金 | H21: 5000 | K21: 5000 | M21: 円 | Q21: ☚２種目にでる場合、形選手名簿と組手選手名簿でスペース（半角、全角）も含めて同じ名前にしないと正しく計算されません。
C22: 合計 | K22: =SUM(K19:L21) -> 5000 | M22: 円
K25: 年 月 日
K26: 旭川地区空手道連盟
D29: ☟シートを切り替えて選手名簿入力してください。

Sheet 参加者名簿（男子）
A1: =申込書!B2 -> 第44回旭川地区秋季空手道選手権大会
A2: 参 加 者 名 簿 （ 男 子 ）
A3: No | B3: 学年 | C3: ふりがな | D3: 団体名 | E3: 形 | F3: 形シード | G3: 組手 | H3: 組手シード | I3: 備考
C4: 氏 名 | M4: 男子形出場者数 | P4: 男子組手出場者数
A5: 1 | D5: =IF(OR(B5<>"",C5<>""),申込書!$M$5,"") | J5: =COUNTIFS(E5:G5,"○") -> 0 | M5: 幼児 | N5: =COUNTIFS($B$5:$B$84,"幼児",$E$5:$E$84,"○") -> 0 | P5: 幼児 | Q5: =COUNTIFS($B$5:$B$84,"幼児",$G$5:$G$84,"○") -> 0 | S5: ○
M6: 小1 | N6: =COUNTIFS($B$5:$B$54,"小1",$E$5:$E$54,"○") -> 0 | P6: 小1 | Q6: =COUNTIFS($B$5:$B$84,"小1",$G$5:$G$84,"○") -> 0 | S6: １位
A7: 2 | D7: =IF(OR(B7<>"",C7<>""),申込書!$M$5,"") | J7: =COUNTIFS(E7:G7,"○") -> 0 | M7: 小2 | N7: =COUNTIFS($B$5:$B$84,"小2",$E$5:$E$84,"○") -> 0 | P7: 小2 | Q7: =COUNTIFS($B$5:$B$84,"小2",$G$5:$G$84,"○") -> 0 | S7: ２位
M8: 小3 | N8: =COUNTIFS($B$5:$B$84,"小3",$E$5:$E$84,"○") -> 0 | P8: 小3 | Q8: =COUNTIFS($B$5:$B$84,"小3",$G$5:$G$84,"○") -> 0 | S8: ３位
A9: 3 | D9: =IF(OR(B9<>"",C9<>""),申込書!$M$5,"") | J9: =COUNTIFS(E9:G9,"○") -> 0 | M9: 小4 | N9: =COUNTIFS($B$5:$B$84,"小4",$E$5:$E$84,"○") -> 0 | P9: 小4 | Q9: =COUNTIFS($B$5:$B$84,"小4",$G$5:$G$84,"○") -> 0
M10: 小5 | N10: =COUNTIFS($B$5:$B$84,"小5",$E$5:$E$84,"○") -> 0 | P10: 小5 | Q10: =COUNTIFS($B$5:$B$84,"小5",$G$5:$G$84,"○") -> 0
A11: 4 | D11: =IF(OR(B11<>"",C11<>""),申込書!$M$5,"") | J11: =COUNTIFS(E11:G11,"○") -> 0 | M11: 小6 | N11: =COUNTIFS($B$5:$B$84,"小6",$E$5:$E$84,"○") -> 0 | P11: 小6 | Q11: =COUNTIFS($B$5:$B$84,"小6",$G$5:$G$84,"○") -> 0
M12: 中学 | N12: =COUNTIFS($B$5:$B$84,"中学",$E$5:$E$84,"○") -> 0 | P12: 中学 | Q12: =COUNTIFS($B$5:$B$84,"中学",$G$5:$G$84,"○") -> 0
A13: 5 | D13: =IF(OR(B13<>"",C13<>""),申込書!$M$5,"") | J13: =COUNTIFS(E13:G13,"○") -> 0 | M13: 高校 | N13: =COUNTIFS($B$5:$B$84,"高校",$E$5:$E$84,"○") -> 0 | P13: 高校 | Q13: =COUNTIFS($B$5:$B$84,"高校",$G$5:$G$84,"○") -> 0
M14: 大学・一般 | N14: =COUNTIFS($B$5:$B$84,"大学・一般",$E$5:$E$84,"○") -> 0 | P14: 大学・一般 | Q14: =COUNTIFS($B$5:$B$84,"大学・一般",$G$5:$G$84,"○") -> 0
A15: 6 | D15: =IF(OR(B15<>"",C15<>""),申込書!$M$5,"") | J15: =COUNTIFS(E15:G15,"○") -> 0 | M15: シニア | N15: =COUNTIFS($B$5:$B$84,"シニア",$E$5:$E$84,"○") -> 0 | P15: シニア | Q15: =COUNTIFS($B$5:$B$84,"シニア",$G$5:$G$84,"○") -> 0
M16: 合計＝申込書① | N16: =SUM(N5:N15) -> 0 | P16: 合計＝申込書① | Q16: =SUM(Q5:Q15) -> 0
A17: 7 | D17: =IF(OR(B17<>"",C17<>""),申込書!$M$5,"") | J17: =COUNTIFS(E17:G17,"○") -> 0
M18: １種目 | N18: =COUNTIF(J5:J54,1) -> 0
A19: 8 | D19: =IF(OR(B19<>"",C19<>""),申込書!$M$5,"") | J19: =COUNTIFS(E19:G19,"○") -> 0 | M19: ２種目 | N19: =COUNTIF(J5:J54,2) -> 0
A21: 9 | D21: =IF(OR(B21<>"",C21<>""),申込書!$M$5,"") | J21: =COUNTIFS(E21:G21,"○") -> 0
A23: 10 | D23: =IF(OR(B23<>"",C23<>""),申込書!$M$5,"") | J23: =COUNTIFS(E23:G23,"○") -> 0
A25: 11 | D25: =IF(OR(B25<>"",C25<>""),申込書!$M$5,"") | J25: =COUNTIFS(E25:G25,"○") -> 0
A27: 12 | D27: =IF(OR(B27<>"",C27<>""),申込書!$M$5,"") | J27: =COUNTIFS(E27:G27,"○") -> 0
A29: 13 | D29: =IF(OR(B29<>"",C29<>""),申込書!$M$5,"") | J29: =COUNTIFS(E29:G29,"○") -> 0
A31: 14 | D31: =IF(OR(B31<>"",C31<>""),申込書!$M$5,"") | J31: =COUNTIFS(E31:G31,"○") -> 0
A33: 15 | D33: =IF(OR(B33<>"",C33<>""),申込書!$M$5,"") | J33: =COUNTIFS(E33:G33,"○") -> 0
A35: 16 | D35: =IF(OR(B35<>"",C35<>""),申込書!$M$5,"") | J35: =COUNTIFS(E35:G35,"○") -> 0
A37: 17 | D37: =IF(OR(B37<>"",C37<>""),申込書!$M$5,"") | J37: =COUNTIFS(E37:G37,"○") -> 0
A39: 18 | D39: =IF(OR(B39<>"",C39<>""),申込書!$M$5,"") | J39: =COUNTIFS(E39:G39,"○") -> 0
A41: 19 | D41: =IF(OR(B41<>"",C41<>""),申込書!$M$5,"") | J41: =COUNTIFS(E41:G41,"○") -> 0
A43: 20 | D43: =IF(OR(B43<>"",C43<>""),申込書!$M$5,"") | J43: =COUNTIFS(E43:G43,"○") -> 0
... A83: 40 | D83: =IF(OR(B83<>"",C83<>""),申込書!$M$5,"") | J83: =COUNTIFS(E83:G83,"○") -> 0
D85: =IF(OR(B85<>"",C85<>""),申込書!$M$5,"")
D87: =IF(OR(B87<>"",C87<>""),申込書!$M$5,"")

Sheet 参加者名簿（女子）
A1: =申込書!B2 -> 第44回旭川地区秋季空手道選手権大会
A2: 参 加 者 名 簿 （ 女 子 ）
A3: No | B3: 学年 | C3: ふりがな | D3: 団体名 | E3: 形 | F3: 形シード | G3: 組手 | H3: 組手シード | I3: 備考 | M3: 女子形出場者数 | P3: 女子組手出場者数
C4: 氏 名 | M4: 幼児 | N4: =COUNTIFS($B$5:$B$84,"幼児",$E$5:$E$84,"○") -> 0 | P4: 幼児 | Q4: =COUNTIFS($B$5:$B$84,"幼児",$G$5:$G$84,"○") -> 0 | S4: ○
A5: 1 | D5: =IF(OR(B5<>"",C5<>""),申込書!$M$5,"") | J5: =COUNTIFS(E5:G5,"○") -> 0 | M5: 小1 | N5: =COUNTIFS($B$5:$B$84,"小1",$E$5:$E$84,"○") -> 0 | P5: 小1 | Q5: =COUNTIFS($B$5:$B$84,"小1",$G$5:$G$84,"○") -> 0 | S5: １位
M6: 小2 | N6: =COUNTIFS($B$5:$B$84,"小2",$E$5:$E$84,"○") -> 0 | P6: 小2 | Q6: =COUNTIFS($B$5:$B$84,"小2",$G$5:$G$84,"○") -> 0 | S6: ２位
A7: 2 | D7: =IF(OR(B7<>"",C7<>""),申込書!$M$5,"") | J7: =COUNTIFS(E7:G7,"○") -> 0 | M7: 小3 | N7: =COUNTIFS($B$5:$B$84,"小3",$E$5:$E$84,"○") -> 0 | P7: 小3 | Q7: =COUNTIFS($B$5:$B$84,"小3",$G$5:$G$84,"○") -> 0 | S7: ３位
M8: 小4 | N8: =COUNTIFS($B$5:$B$84,"小4",$E$5:$E$84,"○") -> 0 | P8: 小4 | Q8: =COUNTIFS($B$5:$B$84,"小4",$G$5:$G$84,"○") -> 0
A9: 3 | D9: =IF(OR(B9<>"",C9<>""),申込書!$M$5,"") | J9: =COUNTIFS(E9:G9,"○") -> 0 | M9: 小5 | N9: =COUNTIFS($B$5:$B$84,"小5",$E$5:$E$84,"○") -> 0 | P9: 小5 | Q9: =COUNTIFS($B$5:$B$84,"小5",$G$5:$G$84,"○") -> 0
M10: 小6 | N10: =COUNTIFS($B$5:$B$84,"小6",$E$5:$E$84,"○") -> 0 | P10: 小6 | Q10: =COUNTIFS($B$5:$B$84,"小6",$G$5:$G$84,"○") -> 0
A11: 4 | D11: =IF(OR(B11<>"",C11<>""),申込書!$M$5,"") | J11: =COUNTIFS(E11:G11,"○") -> 0 | M11: 中学 | N11: =COUNTIFS($B$5:$B$84,"中学",$E$5:$E$84,"○") -> 0 | P11: 中学 | Q11: =COUNTIFS($B$5:$B$84,"中学",$G$5:$G$84,"○") -> 0
M12: 高校 | N12: =COUNTIFS($B$5:$B$84,"高校",$E$5:$E$84,"○") -> 0 | P12: 高校 | Q12: =COUNTIFS($B$5:$B$84,"高校",$G$5:$G$84,"○") -> 0
A13: 5 | D13: =IF(OR(B13<>"",C13<>""),申込書!$M$5,"") | J13: =COUNTIFS(E13:G13,"○") -> 0 | M13: 大学・一般 | N13: =COUNTIFS($B$5:$B$84,"大学・一般",$E$5:$E$84,"○") -> 0 | P13: 大学・一般 | Q13: =COUNTIFS($B$5:$B$84,"大学・一般",$G$5:$G$84,"○") -> 0
M14: シニア | N14: =COUNTIFS($B$5:$B$84,"シニア",$E$5:$E$84,"○") -> 0 | P14: シニア | Q14: =COUNTIFS($B$5:$B$84,"シニア",$G$5:$G$84,"○") -> 0
A15: 6 | D15: =IF(OR(B15<>"",C15<>""),申込書!$M$5,"") | J15: =COUNTIFS(E15:G15,"○") -> 0 | M15: 合計＝申込書① | N15: =SUM(N4:N14) -> 0 | P15: 合計＝申込書① | Q15: =SUM(Q4:Q14) -> 0
A17: 7 | D17: =IF(OR(B17<>"",C17<>""),申込書!$M$5,"") | J17: =COUNTIFS(E17:G17,"○") -> 0 | M17: １種目 | N17: =COUNTIF(J4:J53,1) -> 0
M18: ２種目 | N18: =COUNTIF(J4:J53,2) -> 0
A19: 8 | D19: =IF(OR(B19<>"",C19<>""),申込書!$M$5,"") | J19: =COUNTIFS(E19:G19,"○") -> 0
A21: 9 | D21: =IF(OR(B21<>"",C21<>""),申込書!$M$5,"") | J21: =COUNTIFS(E21:G21,"○") -> 0
A23: 10 | D23: =IF(OR(B23<>"",C23<>""),申込書!$M$5,"") | J23: =COUNTIFS(E23:G23,"○") -> 0
A25: 11 | D25: =IF(OR(B25<>"",C25<>""),申込書!$M$5,"") | J25: =COUNTIFS(E25:G25,"○") -> 0
A27: 12 | D27: =IF(OR(B27<>"",C27<>""),申込書!$M$5,"") | J27: =COUNTIFS(E27:G27,"○") -> 0
A29: 13 | D29: =IF(OR(B29<>"",C29<>""),申込書!$M$5,"") | J29: =COUNTIFS(E29:G29,"○") -> 0
A31: 14 | D31: =IF(OR(B31<>"",C31<>""),申込書!$M$5,"") | J31: =COUNTIFS(E31:G31,"○") -> 0
A33: 15 | D33: =IF(OR(B33<>"",C33<>""),申込書!$M$5,"") | J33: =COUNTIFS(E33:G33,"○") -> 0
A35: 16 | D35: =IF(OR(B35<>"",C35<>""),申込書!$M$5,"") | J35: =COUNTIFS(E35:G35,"○") -> 0
A37: 17 | D37: =IF(OR(B37<>"",C37<>""),申込書!$M$5,"") | J37: =COUNTIFS(E37:G37,"○") -> 0
A39: 18 | D39: =IF(OR(B39<>"",C39<>""),申込書!$M$5,"") | J39: =COUNTIFS(E39:G39,"○") -> 0
A41: 19 | D41: =IF(OR(B41<>"",C41<>""),申込書!$M$5,"") | J41: =COUNTIFS(E41:G41,"○") -> 0
... A83: 40 | D83: =IF(OR(B83<>"",C83<>""),申込書!$M$5,"") | J83: =COUNTIFS(E83:G83,"○") -> 0

Sheet 審判員
A1: =申込書!B2 -> 第44回旭川地区秋季空手道選手権大会
A2: 審 判 員 名 簿
A3: 氏名 | C3: 団体名 | D3: 保有資格 | F3: 備考
D4: 組手 | E4: 形
A5: （例） | B5: 旭川 空手 | C5: ○○道場 | D5: 市町村 | E5: 市町村 | F5: 弁当不要
A6: 1 | C6: =IF(OR(B6<>""),申込書!$M$5,"")
A7: 2 | C7: =IF(OR(B7<>""),申込書!$M$5,"") | O7: 全国
A8: 3 | C8: =IF(OR(B8<>""),申込書!$M$5,"") | O8: 地区
A9: 4 | C9: =IF(OR(B9<>""),申込書!$M$5,"") | O9: 都道府県
A10: 5 | C10: =IF(OR(B10<>""),申込書!$M$5,"") | O10: 市町村
A11: 6 | C11: =IF(OR(B11<>""),申込書!$M$5,"") | O11: 無し
A12: 7 | C12: =IF(OR(B12<>""),申込書!$M$5,"")
A13: 8 | C13: =IF(OR(B13<>""),申込書!$M$5,"")
A14: 9 | C14: =IF(OR(B14<>""),申込書!$M$5,"")
A15: 10 | C15: =IF(OR(B15<>""),申込書!$M$5,"")
A16: 11 | C16: =IF(OR(B16<>""),申込書!$M$5,"")
A17: 12 | C17: =IF(OR(B17<>""),申込書!$M$5,"")
A18: 13 | C18: =IF(OR(B18<>""),申込書!$M$5,"")
A19: 14 | C19: =IF(OR(B19<>""),申込書!$M$5,"")
A20: 15 | C20: =IF(OR(B20<>""),申込書!$M$5,"")
A21: 16 | C21: =IF(OR(B21<>""),申込書!$M$5,"")
A22: 17 | C22: =IF(OR(B22<>""),申込書!$M$5,"")
A23: ※大会当日に参加できる審判員を入力してください。
A24: ※各団体審判員を1名以上選出してください。
A25: ※当日参加される審判員にはお弁当が支給されます。不要な場合は備考欄に記入してください。
A26: ※半日参加の審判員にもお弁当が支給されます。

Sheet 補助役員
A1: =申込書!B2 -> 第44回旭川地区秋季空手道選手権大会
A2: 補 助 役 員 名 簿
B3: 氏名 | C3: 団体名 | D3: 備考
A4: （例） | B4: 旭川 空手 | C4: ○○道場 | D4: 弁当不要
A5: 1 | C5: =IF(OR(B5<>""),申込書!$M$5,"") | G5: ○
C6: =IF(OR(B6<>""),申込書!$M$5,"")
A7: ※大会当日に参加できる補助役員を入力してください。
A8: ※各団体1名（全日）の参加をお願いします。
A9: ※お弁当が支給されます。不要な場合は備考欄に記入してください。
A10: ※どうしても参加できない団体は申し出てください。

Sheet 役員名簿
A1: =申込書!B2 -> 第44回旭川地区秋季空手道選手権大会
A2: 役 員 名 簿
B3: 氏名 | C3: 団体名 | D3: 役職 | E3: 備考
A4: （例） | B4: 旭川 空手 | C4: ○○道場 | D4: 常任理事 | E4: 弁当不要
A5: 1 | C5: =IF(OR(B5<>""),申込書!$M$5,"")
A6: 2
A8: ※大会当日、出席できる役員を入力してください。
A9: 賞状やメダルの授与、大会運営に携われる方を記入してください。
A10: ※役員で参加される方は正装（私服、ジャージはNG）でお願いします。
A11: ※当日参加される役員にはお弁当が支給されます。不要な場合は備考欄に記入してください。
